BEGIN:VCALENDAR
VERSION:2.0
PRODID:-//MISIC: Members Impacting Students; Improving Curriculum - ECPv6.15.20//NONSGML v1.0//EN
CALSCALE:GREGORIAN
METHOD:PUBLISH
X-WR-CALNAME:MISIC: Members Impacting Students; Improving Curriculum
X-ORIGINAL-URL:https://misiciowa.org
X-WR-CALDESC:Events for MISIC: Members Impacting Students; Improving Curriculum
REFRESH-INTERVAL;VALUE=DURATION:PT1H
X-Robots-Tag:noindex
X-PUBLISHED-TTL:PT1H
BEGIN:VTIMEZONE
TZID:America/Chicago
BEGIN:DAYLIGHT
TZOFFSETFROM:-0600
TZOFFSETTO:-0500
TZNAME:CDT
DTSTART:20240310T080000
END:DAYLIGHT
BEGIN:STANDARD
TZOFFSETFROM:-0500
TZOFFSETTO:-0600
TZNAME:CST
DTSTART:20241103T070000
END:STANDARD
BEGIN:DAYLIGHT
TZOFFSETFROM:-0600
TZOFFSETTO:-0500
TZNAME:CDT
DTSTART:20250309T080000
END:DAYLIGHT
BEGIN:STANDARD
TZOFFSETFROM:-0500
TZOFFSETTO:-0600
TZNAME:CST
DTSTART:20251102T070000
END:STANDARD
BEGIN:DAYLIGHT
TZOFFSETFROM:-0600
TZOFFSETTO:-0500
TZNAME:CDT
DTSTART:20260308T080000
END:DAYLIGHT
BEGIN:STANDARD
TZOFFSETFROM:-0500
TZOFFSETTO:-0600
TZNAME:CST
DTSTART:20261101T070000
END:STANDARD
END:VTIMEZONE
BEGIN:VEVENT
DTSTART;TZID=America/Chicago:20250909T090000
DTEND;TZID=America/Chicago:20250909T110000
DTSTAMP:20260424T181650
CREATED:20250819T135504Z
LAST-MODIFIED:20250819T135504Z
UID:8571-1757408400-1757415600@misiciowa.org
SUMMARY:MISIC Quarterly Meeting #1 - 2025-2026
DESCRIPTION:Please join us on Zoom for the first MISIC Quarterly Meeting for 2025-26.\n\nJoin MISIC for our first quarterly meeting for 2025-2026 to hear about all of the new tools and resources that we have available for you. We will be joined by Wendy Parker and some of her team members from Rapacious Learning to focus on Special Education and how we can help support your district. \nThe meeting will be broadcast via Zoom on Tuesday\, September 9 from 9:00-11:00am. Register now and make plans to join us. The meeting will also be recorded and posted. \nClick here to register for the meeting. \nAfter registering\, you will receive a confirmation email containing the link to join the meeting.
URL:/event/misic-quarterly-meeting-1-2025-2026/
CATEGORIES:Regional Meetings,Webinar
ORGANIZER;CN="Jamie":MAILTO:jamie@misiciowa.org
END:VEVENT
END:VCALENDAR