BEGIN:VCALENDAR
VERSION:2.0
PRODID:-//MISIC: Members Impacting Students; Improving Curriculum - ECPv6.15.20//NONSGML v1.0//EN
CALSCALE:GREGORIAN
METHOD:PUBLISH
X-ORIGINAL-URL:https://misiciowa.org
X-WR-CALDESC:Events for MISIC: Members Impacting Students; Improving Curriculum
REFRESH-INTERVAL;VALUE=DURATION:PT1H
X-Robots-Tag:noindex
X-PUBLISHED-TTL:PT1H
BEGIN:VTIMEZONE
TZID:America/Chicago
BEGIN:DAYLIGHT
TZOFFSETFROM:-0600
TZOFFSETTO:-0500
TZNAME:CDT
DTSTART:20240310T080000
END:DAYLIGHT
BEGIN:STANDARD
TZOFFSETFROM:-0500
TZOFFSETTO:-0600
TZNAME:CST
DTSTART:20241103T070000
END:STANDARD
BEGIN:DAYLIGHT
TZOFFSETFROM:-0600
TZOFFSETTO:-0500
TZNAME:CDT
DTSTART:20250309T080000
END:DAYLIGHT
BEGIN:STANDARD
TZOFFSETFROM:-0500
TZOFFSETTO:-0600
TZNAME:CST
DTSTART:20251102T070000
END:STANDARD
BEGIN:DAYLIGHT
TZOFFSETFROM:-0600
TZOFFSETTO:-0500
TZNAME:CDT
DTSTART:20260308T080000
END:DAYLIGHT
BEGIN:STANDARD
TZOFFSETFROM:-0500
TZOFFSETTO:-0600
TZNAME:CST
DTSTART:20261101T070000
END:STANDARD
END:VTIMEZONE
BEGIN:VEVENT
DTSTART;TZID=America/Chicago:20250414T090000
DTEND;TZID=America/Chicago:20250414T110000
DTSTAMP:20260425T200725
CREATED:20250319T180959Z
LAST-MODIFIED:20250401T154447Z
UID:8286-1744621200-1744628400@misiciowa.org
SUMMARY:MISIC Quarterly Meeting #4 – 2024-2025
DESCRIPTION:Please join us on Zoom for the final MISIC Quarterly Meeting for 2024-25.\n\n\n\nJoin MISIC on Monday\, April 14th from 9:00am to 11:00am for our final quarterly meeting for 2024-2025. \nThe meeting agenda includes: \n\nAlternative School Calendars – Jon Suntken\, Melcher-Dallas & MaryDawn Schuck\, Van Buren County\nUnderstanding Collective Stress and Trauma – Jen Alexander\, Author & Presenter\nMISIC Resources Update – Sue Beers & Jamie Morgan\nLegislative Update – Margaret Buckton\, ISFIS/RSAI\nAnd more!\n\nThe meeting will be broadcast via Zoom. Register now and make plans to join us. The meeting will also be recorded and posted. \nClick here to register for the meeting. \nAfter registering\, you will receive a confirmation email that contains the link to join the meeting.
URL:/event/misic-quarterly-meeting-4-2024-2025/
LOCATION:Online
CATEGORIES:Regional Meetings
ORGANIZER;CN="Jamie":MAILTO:jamie@misiciowa.org
END:VEVENT
END:VCALENDAR