BEGIN:VCALENDAR
VERSION:2.0
PRODID:-//MISIC: Members Impacting Students; Improving Curriculum - ECPv6.15.20//NONSGML v1.0//EN
CALSCALE:GREGORIAN
METHOD:PUBLISH
X-WR-CALNAME:MISIC: Members Impacting Students; Improving Curriculum
X-ORIGINAL-URL:https://misiciowa.org
X-WR-CALDESC:Events for MISIC: Members Impacting Students; Improving Curriculum
REFRESH-INTERVAL;VALUE=DURATION:PT1H
X-Robots-Tag:noindex
X-PUBLISHED-TTL:PT1H
BEGIN:VTIMEZONE
TZID:America/Chicago
BEGIN:DAYLIGHT
TZOFFSETFROM:-0600
TZOFFSETTO:-0500
TZNAME:CDT
DTSTART:20230312T080000
END:DAYLIGHT
BEGIN:STANDARD
TZOFFSETFROM:-0500
TZOFFSETTO:-0600
TZNAME:CST
DTSTART:20231105T070000
END:STANDARD
BEGIN:DAYLIGHT
TZOFFSETFROM:-0600
TZOFFSETTO:-0500
TZNAME:CDT
DTSTART:20240310T080000
END:DAYLIGHT
BEGIN:STANDARD
TZOFFSETFROM:-0500
TZOFFSETTO:-0600
TZNAME:CST
DTSTART:20241103T070000
END:STANDARD
BEGIN:DAYLIGHT
TZOFFSETFROM:-0600
TZOFFSETTO:-0500
TZNAME:CDT
DTSTART:20250309T080000
END:DAYLIGHT
BEGIN:STANDARD
TZOFFSETFROM:-0500
TZOFFSETTO:-0600
TZNAME:CST
DTSTART:20251102T070000
END:STANDARD
END:VTIMEZONE
BEGIN:VEVENT
DTSTART;TZID=America/Chicago:20241010T083000
DTEND;TZID=America/Chicago:20241010T150000
DTSTAMP:20260423T001800
CREATED:20240410T213419Z
LAST-MODIFIED:20240613T193511Z
UID:7645-1728549000-1728572400@misiciowa.org
SUMMARY:Fall 2024 - ISASP Workshop
DESCRIPTION:MISIC is excited to announce that we are hosting an ISASP workshop on Thursday\, October 10\, 2024. We will once again be joined by Catherine Welch\, Stephen Dunbar and others from Iowa Testing Programs. Mark your calendars and register now!
URL:/event/fall-2024-isasp-workshop/
LOCATION:City Church\, 2400 Oakwood Road\, Ames\, IA\, 50010\, United States
CATEGORIES:Workshop
ORGANIZER;CN="Jamie":MAILTO:jamie@misiciowa.org
END:VEVENT
END:VCALENDAR