BEGIN:VCALENDAR
VERSION:2.0
PRODID:-//MISIC: Members Impacting Students; Improving Curriculum - ECPv6.15.20//NONSGML v1.0//EN
CALSCALE:GREGORIAN
METHOD:PUBLISH
X-WR-CALNAME:MISIC: Members Impacting Students; Improving Curriculum
X-ORIGINAL-URL:https://misiciowa.org
X-WR-CALDESC:Events for MISIC: Members Impacting Students; Improving Curriculum
REFRESH-INTERVAL;VALUE=DURATION:PT1H
X-Robots-Tag:noindex
X-PUBLISHED-TTL:PT1H
BEGIN:VTIMEZONE
TZID:America/Chicago
BEGIN:DAYLIGHT
TZOFFSETFROM:-0600
TZOFFSETTO:-0500
TZNAME:CDT
DTSTART:20230312T080000
END:DAYLIGHT
BEGIN:STANDARD
TZOFFSETFROM:-0500
TZOFFSETTO:-0600
TZNAME:CST
DTSTART:20231105T070000
END:STANDARD
BEGIN:DAYLIGHT
TZOFFSETFROM:-0600
TZOFFSETTO:-0500
TZNAME:CDT
DTSTART:20240310T080000
END:DAYLIGHT
BEGIN:STANDARD
TZOFFSETFROM:-0500
TZOFFSETTO:-0600
TZNAME:CST
DTSTART:20241103T070000
END:STANDARD
BEGIN:DAYLIGHT
TZOFFSETFROM:-0600
TZOFFSETTO:-0500
TZNAME:CDT
DTSTART:20250309T080000
END:DAYLIGHT
BEGIN:STANDARD
TZOFFSETFROM:-0500
TZOFFSETTO:-0600
TZNAME:CST
DTSTART:20251102T070000
END:STANDARD
END:VTIMEZONE
BEGIN:VEVENT
DTSTART;TZID=America/Chicago:20240213T090000
DTEND;TZID=America/Chicago:20240213T110000
DTSTAMP:20260423T013509
CREATED:20240116T161002Z
LAST-MODIFIED:20240201T173643Z
UID:7577-1707814800-1707822000@misiciowa.org
SUMMARY:MISIC Quarterly Meetings 2023-24
DESCRIPTION:Please join us on Zoom for the third MISIC Quarterly Meeting for 2023-24.\n\n\n\n\nJoin MISIC as we continue to help you Focus on What Matters this year in our quarterly meetings. Each meeting will be broadcast via Zoom across the state. The third meeting for this year will be held on Tuesday\, February 13 from 9:00-11:00am. Register now and make plans to join us. The agenda for the meeting includes: \n\nIowa Legislative Update – Margaret Buckton\, RSAI & ISFIS\nAEA Perspective – Dan Mart\, Prairie Lakes AEA\nISASP Update – Catherine Welch & Stephen Dunbar\, Iowa Testing Programs\nMath Standards Update – April Pforts\, Dept. of Ed.\n\nClick here to register for the meeting.  \nAfter registering\, you will receive a confirmation email containing information about joining the meeting. \nThe meeting will also be recorded and posted.
URL:/event/misic-quarterly-meetings-2023-24-3/
LOCATION:IA
CATEGORIES:Regional Meetings,Webinar
ORGANIZER;CN="Jamie":MAILTO:jamie@misiciowa.org
END:VEVENT
END:VCALENDAR