BEGIN:VCALENDAR
VERSION:2.0
PRODID:-//MISIC: Members Impacting Students; Improving Curriculum - ECPv6.15.20//NONSGML v1.0//EN
CALSCALE:GREGORIAN
METHOD:PUBLISH
X-ORIGINAL-URL:https://misiciowa.org
X-WR-CALDESC:Events for MISIC: Members Impacting Students; Improving Curriculum
REFRESH-INTERVAL;VALUE=DURATION:PT1H
X-Robots-Tag:noindex
X-PUBLISHED-TTL:PT1H
BEGIN:VTIMEZONE
TZID:America/Chicago
BEGIN:DAYLIGHT
TZOFFSETFROM:-0600
TZOFFSETTO:-0500
TZNAME:CDT
DTSTART:20170312T080000
END:DAYLIGHT
BEGIN:STANDARD
TZOFFSETFROM:-0500
TZOFFSETTO:-0600
TZNAME:CST
DTSTART:20171105T070000
END:STANDARD
BEGIN:DAYLIGHT
TZOFFSETFROM:-0600
TZOFFSETTO:-0500
TZNAME:CDT
DTSTART:20180311T080000
END:DAYLIGHT
BEGIN:STANDARD
TZOFFSETFROM:-0500
TZOFFSETTO:-0600
TZNAME:CST
DTSTART:20181104T070000
END:STANDARD
BEGIN:DAYLIGHT
TZOFFSETFROM:-0600
TZOFFSETTO:-0500
TZNAME:CDT
DTSTART:20190310T080000
END:DAYLIGHT
BEGIN:STANDARD
TZOFFSETFROM:-0500
TZOFFSETTO:-0600
TZNAME:CST
DTSTART:20191103T070000
END:STANDARD
END:VTIMEZONE
BEGIN:VEVENT
DTSTART;TZID=America/Chicago:20180914T090000
DTEND;TZID=America/Chicago:20180914T120000
DTSTAMP:20260425T084844
CREATED:20150806T205846Z
LAST-MODIFIED:20180820T144443Z
UID:1838-1536915600-1536926400@misiciowa.org
SUMMARY:Regional Meeting - Cedar Falls
DESCRIPTION:Please join us for the first MISIC Regional Meeting for 2018-19. We will be presenting from Central Rivers AEA in Cedar Falls and will also be broadcasting live online. Join us online via zoom: https://zoom.us/j/411233183 \nThe steering committee will meet for lunch immediately after the general meeting. Email Jamie (jamie@misiciowa.org) to register for any of the meetings.
URL:/event/region-2-meeting/
LOCATION:Central Rivers AEA\, 1521 Technology Parkway\, Cedar Falls\, IA\, United States
CATEGORIES:Regional Meetings
ORGANIZER;CN="Jamie":MAILTO:jamie@misiciowa.org
END:VEVENT
END:VCALENDAR